BEGIN:VCALENDAR
VERSION:2.0
PRODID:Imitheme.com
BEGIN:VEVENT
UID:20260421T180343-1788433180
DTSTAMP;TZID=UTC:1776794623
DTSTART;TZID=America/Los_Angeles:20260421T180343
DTEND;TZID=America/Los_Angeles:20260421T180343
SUMMARY:Cours de secourisme adapté à la petite enfance
LOCATION:Montréal
DESCRIPTION: Cette formation complète d’une journée (8 heures) est spécialement conçue pour les éducateurs, éducatrices, responsables de service de garde (RSG) et personnel de garderie. Elle vise à développer les compétences essentielles en secourisme et en prévention des blessures chez les enfants et les bébés.https://gism.ca/eventer/cours-de-secourisme-adapte-a-la-petite-enfance/
URL:https://gism.ca/eventer/cours-de-secourisme-adapte-a-la-petite-enfance/
END:VEVENT
END:VCALENDAR
